BEGIN:VCALENDAR
VERSION:2.0
PRODID:-//Animal Advocates | Pittsburgh Animal Rescue - ECPv6.13.1//NONSGML v1.0//EN
CALSCALE:GREGORIAN
METHOD:PUBLISH
X-WR-CALNAME:Animal Advocates | Pittsburgh Animal Rescue
X-ORIGINAL-URL:https://www.animaladvocates.net
X-WR-CALDESC:Events for Animal Advocates | Pittsburgh Animal Rescue
REFRESH-INTERVAL;VALUE=DURATION:PT1H
X-Robots-Tag:noindex
X-PUBLISHED-TTL:PT1H
BEGIN:VTIMEZONE
TZID:America/New_York
BEGIN:DAYLIGHT
TZOFFSETFROM:-0500
TZOFFSETTO:-0400
TZNAME:EDT
DTSTART:20230312T070000
END:DAYLIGHT
BEGIN:STANDARD
TZOFFSETFROM:-0400
TZOFFSETTO:-0500
TZNAME:EST
DTSTART:20231105T060000
END:STANDARD
BEGIN:DAYLIGHT
TZOFFSETFROM:-0500
TZOFFSETTO:-0400
TZNAME:EDT
DTSTART:20240310T070000
END:DAYLIGHT
BEGIN:STANDARD
TZOFFSETFROM:-0400
TZOFFSETTO:-0500
TZNAME:EST
DTSTART:20241103T060000
END:STANDARD
END:VTIMEZONE
BEGIN:VEVENT
DTSTART;TZID=America/New_York:20231104T130000
DTEND;TZID=America/New_York:20240331T160000
DTSTAMP:20260421T213511
CREATED:20231104T145538Z
LAST-MODIFIED:20240114T160017Z
UID:2308-1699102800-1711900800@www.animaladvocates.net
SUMMARY:NEW HOURS AT THE THRIFT SHOP
DESCRIPTION:NEW HOURS AT THE THRIFT SHOP \nStarting on Sunday\, November 5 through Sunday March 31\, 2024 the Thrift Shop will be open from 1-4 pm.  Pick up a thrifty treasure and support animal rescue! \nShop Hours \n\nMonday: 12-3\nTuesday: 12-3\nWednesday: 12-3\nThursday: 12-3\nFriday: 12-3\nSaturday: 12-4\nSunday: 1-4 \n\nPlease check social media or join the mailing list for special sale dates!
URL:https://www.animaladvocates.net/event/new-hours-at-the-thrift-shop-open-house-hours-with-the-cats/
LOCATION:Animal Advocates Thrift Shop\, 35 Wabash Street\, Pittsburgh\, PA\, 15220\, United States
ATTACH;FMTTYPE=image/jpeg:https://www.animaladvocates.net/wp-content/uploads/2021/12/Volunteer-with-Frank-Use-with-Gina-Quote-scaled.jpg
END:VEVENT
END:VCALENDAR