BEGIN:VCALENDAR
VERSION:2.0
PRODID:-//Animal Advocates | Pittsburgh Animal Rescue - ECPv6.13.1//NONSGML v1.0//EN
CALSCALE:GREGORIAN
METHOD:PUBLISH
X-WR-CALNAME:Animal Advocates | Pittsburgh Animal Rescue
X-ORIGINAL-URL:https://www.animaladvocates.net
X-WR-CALDESC:Events for Animal Advocates | Pittsburgh Animal Rescue
REFRESH-INTERVAL;VALUE=DURATION:PT1H
X-Robots-Tag:noindex
X-PUBLISHED-TTL:PT1H
BEGIN:VTIMEZONE
TZID:America/New_York
BEGIN:DAYLIGHT
TZOFFSETFROM:-0500
TZOFFSETTO:-0400
TZNAME:EDT
DTSTART:20200308T070000
END:DAYLIGHT
BEGIN:STANDARD
TZOFFSETFROM:-0400
TZOFFSETTO:-0500
TZNAME:EST
DTSTART:20201101T060000
END:STANDARD
END:VTIMEZONE
BEGIN:VEVENT
DTSTART;TZID=America/New_York:20200928T080000
DTEND;TZID=America/New_York:20201031T170000
DTSTAMP:20260422T094554
CREATED:20200928T151747Z
LAST-MODIFIED:20200928T151747Z
UID:1230-1601280000-1604163600@www.animaladvocates.net
SUMMARY:Fall in Love with the Thrift Shop *October Sales*
DESCRIPTION:FALL IN LOVE with the Animal Advocates Thrift Shop!!! Each weekend in October\, select merchandise will be discounted.  Check our social media accounts for weekly sale announcements – Facebook @animaladvocatespgh or Instagram @weareanimaladvocates  \nAll sales benefit the rescue and care of animals in need! The Thrift Shop is located at 35 Wabash Street\, Pittsburgh PA 15220.  For more information on the shop\, location and hours\, please visit the Thrift Shop page on our website.
URL:https://www.animaladvocates.net/event/fall-in-love-with-the-thrift-shop-october-sales/
LOCATION:Animal Advocates Thrift Shop\, 35 Wabash Street\, Pittsburgh\, PA\, 15220\, United States
ATTACH;FMTTYPE=image/jpeg:https://www.animaladvocates.net/wp-content/uploads/2020/09/cat-fall.jpg
END:VEVENT
END:VCALENDAR