BEGIN:VCALENDAR
VERSION:2.0
PRODID:-//Animal Advocates | Pittsburgh Animal Rescue - ECPv6.13.1//NONSGML v1.0//EN
CALSCALE:GREGORIAN
METHOD:PUBLISH
X-WR-CALNAME:Animal Advocates | Pittsburgh Animal Rescue
X-ORIGINAL-URL:https://www.animaladvocates.net
X-WR-CALDESC:Events for Animal Advocates | Pittsburgh Animal Rescue
REFRESH-INTERVAL;VALUE=DURATION:PT1H
X-Robots-Tag:noindex
X-PUBLISHED-TTL:PT1H
BEGIN:VTIMEZONE
TZID:America/New_York
BEGIN:DAYLIGHT
TZOFFSETFROM:-0500
TZOFFSETTO:-0400
TZNAME:EDT
DTSTART:20200308T070000
END:DAYLIGHT
BEGIN:STANDARD
TZOFFSETFROM:-0400
TZOFFSETTO:-0500
TZNAME:EST
DTSTART:20201101T060000
END:STANDARD
END:VTIMEZONE
BEGIN:VEVENT
DTSTART;TZID=America/New_York:20200725T100000
DTEND;TZID=America/New_York:20200725T160000
DTSTAMP:20260420T230228
CREATED:20200708T122914Z
LAST-MODIFIED:20200708T122915Z
UID:1207-1595671200-1595692800@www.animaladvocates.net
SUMMARY:Dog Days of Summer Sidewalk Sale 7/25/20
DESCRIPTION:Join us for a SIDEWALK SALE at the Animal Advocates Thrift Shop! Unique collectables\, vintage pieces\, pet supplies\, summer clothing and other thrifty finds will be on sale! \nSupport a local business and animals in need by shopping at the Animal Advocates Thrift Shop on Saturday\, July 25 from 10am-4pm. 100% of all proceeds support the rescue and care care of cats and dogs! The Thrift Shop is located at 35 Wabash Street\, Pittsburgh 15220.
URL:https://www.animaladvocates.net/event/dog-days-of-summer-sidewalk-sale-7-25-20/
LOCATION:Animal Advocates Thrift Shop\, 35 Wabash Street\, Pittsburgh\, PA\, 15220\, United States
ATTACH;FMTTYPE=image/png:https://www.animaladvocates.net/wp-content/uploads/2020/07/pup-e1594211634355.png
END:VEVENT
END:VCALENDAR